BEGIN:VCALENDAR
VERSION:2.0
PRODID:-//SVP Widen //NONSGML Events //EN
CALSCALE:GREGORIAN
X-WR-CALNAME:SVP Widen
BEGIN:VEVENT
CREATED:20230111T133709Z
UID:1129
DTEND:20230420T140000
DTSTART:20230420T133000
DTSTAMP:20260425T201223Z
LOCATION:
DESCRIPTION:Referat "Aktenzeichen Ü60" der Kantonspolizei Aargau zum Thema Präve
SUMMARY:Anlass SVP Senioren &#8220\;Aktenzeichen Ü60&#8221\;
ORGANIZER:
URL;VALUE=URI:https://www.svp-widen.ch/termine/anlass-svp-senioren-aktenzeichen-ue60/
TRANSP:OPAQUE
END:VEVENT
END:VCALENDAR
