BEGIN:VCALENDAR
VERSION:2.0
PRODID:-//SVP Widen //NONSGML Events //EN
CALSCALE:GREGORIAN
X-WR-CALNAME:SVP Widen
BEGIN:VEVENT
CREATED:20230313T113253Z
UID:1134
DTEND:20230414T210000
DTSTART:20230414T203000
DTSTAMP:20260421T151609Z
LOCATION:
DESCRIPTION:Die vierte Gewalt - Medien auf Abwegen? Öffentliches Referat Landgast
SUMMARY:Referat von Dr. Philipp Gut
ORGANIZER:
URL;VALUE=URI:https://www.svp-widen.ch/termine/referat-von-dr-philipp-gut/
TRANSP:OPAQUE
END:VEVENT
END:VCALENDAR
