BEGIN:VCALENDAR
VERSION:2.0
PRODID:-//SVP Widen //NONSGML Events //EN
CALSCALE:GREGORIAN
X-WR-CALNAME:SVP Widen
BEGIN:VEVENT
CREATED:20231107T112224Z
UID:1255
DTEND:20241012T000000
DTSTART:20241012T000000
DTSTAMP:20260423T041701Z
LOCATION:
DESCRIPTION:Delegiertenversammlung im Kanton Aargau (Ort: offen)
SUMMARY:DV Schweiz &#8211\; im Kanton Aargau
ORGANIZER:
URL;VALUE=URI:https://www.svp-widen.ch/termine/dv-schweiz-im-kanton-aargau/
TRANSP:OPAQUE
END:VEVENT
END:VCALENDAR
