BEGIN:VCALENDAR
VERSION:2.0
PRODID:-//SVP Widen //NONSGML Events //EN
CALSCALE:GREGORIAN
X-WR-CALNAME:SVP Widen
BEGIN:VEVENT
CREATED:20240401T085906Z
UID:1317
DTEND:20240409T200000
DTSTART:20240409T190000
DTSTAMP:20260425T023512Z
LOCATION:Restaurant Pizzeria Testarossa
DESCRIPTION:Einladung erfolgt separat
SUMMARY:Generalversammlung SVP Widen
ORGANIZER:
URL;VALUE=URI:https://www.svp-widen.ch/termine/generalversammlung-svp-widen-4/
TRANSP:OPAQUE
END:VEVENT
END:VCALENDAR
