BEGIN:VCALENDAR
VERSION:2.0
PRODID:-//SVP Widen //NONSGML Events //EN
CALSCALE:GREGORIAN
X-WR-CALNAME:SVP Widen
BEGIN:VEVENT
CREATED:20250430T064513Z
UID:1487
DTEND:20260428T200000
DTSTART:20260428T190000
DTSTAMP:20260421T124457Z
LOCATION:Restaurant Testarossa\, Widen
DESCRIPTION:Einladung erfolgt separat
SUMMARY:Generalversammlung SVP Widen
ORGANIZER:SVP Widen
URL;VALUE=URI:https://www.svp-widen.ch/termine/generalversammlung-svp-widen-5/
TRANSP:OPAQUE
END:VEVENT
END:VCALENDAR
