BEGIN:VCALENDAR
VERSION:2.0
PRODID:-//SVP Widen //NONSGML Events //EN
CALSCALE:GREGORIAN
X-WR-CALNAME:SVP Widen
BEGIN:VEVENT
CREATED:20251223T122650Z
UID:1586
DTEND:20260225T190000
DTSTART:20260225T180000
DTSTAMP:20260425T024853Z
LOCATION:Oldtimer-Bar\, Restaurant Drüüklang Gehrenweg 1\, 8917 Oberlunkhofen
DESCRIPTION:Am Mittwoch, 25. Februar 2026 findet in der Oldtimer-Bar, Restaurant D
SUMMARY:Generalversammlung der SVP des Bezirks Bremgarten
ORGANIZER:
URL;VALUE=URI:https://www.svp-widen.ch/termine/generalversammlung-der-svp-des-bezirks-bremgarten/
TRANSP:OPAQUE
END:VEVENT
END:VCALENDAR
